BEGIN:VCALENDAR
VERSION:2.0
PRODID:-//Pushroot Brewing Company - ECPv6.15.20//NONSGML v1.0//EN
CALSCALE:GREGORIAN
METHOD:PUBLISH
X-WR-CALNAME:Pushroot Brewing Company
X-ORIGINAL-URL:https://www.pushrootbrewing.com
X-WR-CALDESC:Events for Pushroot Brewing Company
REFRESH-INTERVAL;VALUE=DURATION:PT1H
X-Robots-Tag:noindex
X-PUBLISHED-TTL:PT1H
BEGIN:VTIMEZONE
TZID:America/Denver
BEGIN:DAYLIGHT
TZOFFSETFROM:-0700
TZOFFSETTO:-0600
TZNAME:MDT
DTSTART:20230312T090000
END:DAYLIGHT
BEGIN:STANDARD
TZOFFSETFROM:-0600
TZOFFSETTO:-0700
TZNAME:MST
DTSTART:20231105T080000
END:STANDARD
BEGIN:DAYLIGHT
TZOFFSETFROM:-0700
TZOFFSETTO:-0600
TZNAME:MDT
DTSTART:20240310T090000
END:DAYLIGHT
BEGIN:STANDARD
TZOFFSETFROM:-0600
TZOFFSETTO:-0700
TZNAME:MST
DTSTART:20241103T080000
END:STANDARD
BEGIN:DAYLIGHT
TZOFFSETFROM:-0700
TZOFFSETTO:-0600
TZNAME:MDT
DTSTART:20250309T090000
END:DAYLIGHT
BEGIN:STANDARD
TZOFFSETFROM:-0600
TZOFFSETTO:-0700
TZNAME:MST
DTSTART:20251102T080000
END:STANDARD
END:VTIMEZONE
BEGIN:VEVENT
DTSTART;TZID=America/Denver:20241228T180000
DTEND;TZID=America/Denver:20241228T210000
DTSTAMP:20260423T133336
CREATED:20241226T220029Z
LAST-MODIFIED:20241226T221936Z
UID:10000001-1735408800-1735419600@www.pushrootbrewing.com
SUMMARY:307 Song Slam: Turn the Page Edition
DESCRIPTION:
URL:https://www.pushrootbrewing.com/event/307-song-slam-turn-the-page-edition/
LOCATION:Pushroot Brewing Co.\, 595 Main St.\, Lander\, WY\, 82520\, United States
CATEGORIES:music
ATTACH;FMTTYPE=image/jpeg:https://www.pushrootbrewing.com/wp-content/uploads/PXL_20241226_212842351-scaled.jpg
END:VEVENT
END:VCALENDAR