BEGIN:VCALENDAR
VERSION:2.0
PRODID:-//Pushroot Brewing Company - ECPv6.15.20//NONSGML v1.0//EN
CALSCALE:GREGORIAN
METHOD:PUBLISH
X-ORIGINAL-URL:https://www.pushrootbrewing.com
X-WR-CALDESC:Events for Pushroot Brewing Company
REFRESH-INTERVAL;VALUE=DURATION:PT1H
X-Robots-Tag:noindex
X-PUBLISHED-TTL:PT1H
BEGIN:VTIMEZONE
TZID:America/Denver
BEGIN:DAYLIGHT
TZOFFSETFROM:-0700
TZOFFSETTO:-0600
TZNAME:MDT
DTSTART:20230312T090000
END:DAYLIGHT
BEGIN:STANDARD
TZOFFSETFROM:-0600
TZOFFSETTO:-0700
TZNAME:MST
DTSTART:20231105T080000
END:STANDARD
BEGIN:DAYLIGHT
TZOFFSETFROM:-0700
TZOFFSETTO:-0600
TZNAME:MDT
DTSTART:20240310T090000
END:DAYLIGHT
BEGIN:STANDARD
TZOFFSETFROM:-0600
TZOFFSETTO:-0700
TZNAME:MST
DTSTART:20241103T080000
END:STANDARD
BEGIN:DAYLIGHT
TZOFFSETFROM:-0700
TZOFFSETTO:-0600
TZNAME:MDT
DTSTART:20250309T090000
END:DAYLIGHT
BEGIN:STANDARD
TZOFFSETFROM:-0600
TZOFFSETTO:-0700
TZNAME:MST
DTSTART:20251102T080000
END:STANDARD
BEGIN:DAYLIGHT
TZOFFSETFROM:-0700
TZOFFSETTO:-0600
TZNAME:MDT
DTSTART:20260308T090000
END:DAYLIGHT
BEGIN:STANDARD
TZOFFSETFROM:-0600
TZOFFSETTO:-0700
TZNAME:MST
DTSTART:20261101T080000
END:STANDARD
END:VTIMEZONE
BEGIN:VEVENT
DTSTART;TZID=America/Denver:20250607T170000
DTEND;TZID=America/Denver:20250607T230000
DTSTAMP:20260423T152336
CREATED:20250603T203850Z
LAST-MODIFIED:20250603T203850Z
UID:10000160-1749315600-1749337200@www.pushrootbrewing.com
SUMMARY:Summer Kick Off Party
DESCRIPTION:Celebrate summer and the Speedgoat Rugby team! Locally sourced pig roast BBQ at 6 PM. Yard games start earlier. Music with Garrett LeBeau and the Soul Providers after dinner. \n$20 plates\, $25 with a beer. $5 kids’ hot dog plate. Limited plates! Get your tickets here. Fun is not limited.
URL:https://www.pushrootbrewing.com/event/summer-kick-off-party/
LOCATION:Pushroot Brewing Co.\, 595 Main St.\, Lander\, WY\, 82520\, United States
CATEGORIES:events,music
ATTACH;FMTTYPE=image/png:https://www.pushrootbrewing.com/wp-content/uploads/Screenshot-2025-06-03-at-2.38.07 PM.png
END:VEVENT
BEGIN:VEVENT
DTSTART;TZID=America/Denver:20250215T190000
DTEND;TZID=America/Denver:20250215T210000
DTSTAMP:20260423T152336
CREATED:20250213T223022Z
LAST-MODIFIED:20250213T223022Z
UID:10000077-1739646000-1739653200@www.pushrootbrewing.com
SUMMARY:Live Music with Night Fire
DESCRIPTION:@nightfire307 is back with the mic all to themselves.
URL:https://www.pushrootbrewing.com/event/live-music-with-night-fire/
LOCATION:Pushroot Brewing Co.\, 595 Main St.\, Lander\, WY\, 82520\, United States
CATEGORIES:music
ATTACH;FMTTYPE=image/jpeg:https://www.pushrootbrewing.com/wp-content/uploads/Nightfire.jpg
END:VEVENT
BEGIN:VEVENT
DTSTART;TZID=America/Denver:20250213T190000
DTEND;TZID=America/Denver:20250213T203000
DTSTAMP:20260423T152336
CREATED:20250207T231141Z
LAST-MODIFIED:20250207T231141Z
UID:10000075-1739473200-1739478600@www.pushrootbrewing.com
SUMMARY:Live Music with Pushroot
DESCRIPTION:Live music from @pushroot!
URL:https://www.pushrootbrewing.com/event/live-music-with-pushroot/
LOCATION:Pushroot Brewing Co.\, 595 Main St.\, Lander\, WY\, 82520\, United States
CATEGORIES:music
ATTACH;FMTTYPE=image/png:https://www.pushrootbrewing.com/wp-content/uploads/Screenshot-2025-02-07-at-4.10.12 PM.png
END:VEVENT
BEGIN:VEVENT
DTSTART;TZID=America/Denver:20250118T180000
DTEND;TZID=America/Denver:20250118T203000
DTSTAMP:20260423T152336
CREATED:20250115T185221Z
LAST-MODIFIED:20250115T185221Z
UID:10000033-1737223200-1737232200@www.pushrootbrewing.com
SUMMARY:307 Song Slam - Hosted by Nightfire
DESCRIPTION:Hosted by @nightfire307 Songs inspired by winter. If you want to sing a song contact @nightfire307
URL:https://www.pushrootbrewing.com/event/307-song-slam-hosted-by-nightfire/
LOCATION:Pushroot Brewing Co.\, 595 Main St.\, Lander\, WY\, 82520\, United States
CATEGORIES:music
ATTACH;FMTTYPE=image/jpeg:https://www.pushrootbrewing.com/wp-content/uploads/Nightfire.jpg
END:VEVENT
BEGIN:VEVENT
DTSTART;TZID=America/Denver:20250115T190000
DTEND;TZID=America/Denver:20250115T203000
DTSTAMP:20260423T152336
CREATED:20250115T184731Z
LAST-MODIFIED:20250115T184731Z
UID:10000031-1736967600-1736973000@www.pushrootbrewing.com
SUMMARY:Low Water String Band
DESCRIPTION:
URL:https://www.pushrootbrewing.com/event/low-water-string-band/
LOCATION:Pushroot Brewing Co.\, 595 Main St.\, Lander\, WY\, 82520\, United States
CATEGORIES:music
ATTACH;FMTTYPE=image/jpeg:https://www.pushrootbrewing.com/wp-content/uploads/lwsb-scaled.jpg
END:VEVENT
BEGIN:VEVENT
DTSTART;TZID=America/Denver:20241228T180000
DTEND;TZID=America/Denver:20241228T210000
DTSTAMP:20260423T152336
CREATED:20241226T220029Z
LAST-MODIFIED:20241226T221936Z
UID:10000001-1735408800-1735419600@www.pushrootbrewing.com
SUMMARY:307 Song Slam: Turn the Page Edition
DESCRIPTION:
URL:https://www.pushrootbrewing.com/event/307-song-slam-turn-the-page-edition/
LOCATION:Pushroot Brewing Co.\, 595 Main St.\, Lander\, WY\, 82520\, United States
CATEGORIES:music
ATTACH;FMTTYPE=image/jpeg:https://www.pushrootbrewing.com/wp-content/uploads/PXL_20241226_212842351-scaled.jpg
END:VEVENT
END:VCALENDAR