BEGIN:VCALENDAR
VERSION:2.0
PRODID:-//Pushroot Brewing Company - ECPv6.15.20//NONSGML v1.0//EN
CALSCALE:GREGORIAN
METHOD:PUBLISH
X-ORIGINAL-URL:https://www.pushrootbrewing.com
X-WR-CALDESC:Events for Pushroot Brewing Company
REFRESH-INTERVAL;VALUE=DURATION:PT1H
X-Robots-Tag:noindex
X-PUBLISHED-TTL:PT1H
BEGIN:VTIMEZONE
TZID:America/Denver
BEGIN:DAYLIGHT
TZOFFSETFROM:-0700
TZOFFSETTO:-0600
TZNAME:MDT
DTSTART:20240310T090000
END:DAYLIGHT
BEGIN:STANDARD
TZOFFSETFROM:-0600
TZOFFSETTO:-0700
TZNAME:MST
DTSTART:20241103T080000
END:STANDARD
BEGIN:DAYLIGHT
TZOFFSETFROM:-0700
TZOFFSETTO:-0600
TZNAME:MDT
DTSTART:20250309T090000
END:DAYLIGHT
BEGIN:STANDARD
TZOFFSETFROM:-0600
TZOFFSETTO:-0700
TZNAME:MST
DTSTART:20251102T080000
END:STANDARD
BEGIN:DAYLIGHT
TZOFFSETFROM:-0700
TZOFFSETTO:-0600
TZNAME:MDT
DTSTART:20260308T090000
END:DAYLIGHT
BEGIN:STANDARD
TZOFFSETFROM:-0600
TZOFFSETTO:-0700
TZNAME:MST
DTSTART:20261101T080000
END:STANDARD
BEGIN:DAYLIGHT
TZOFFSETFROM:-0700
TZOFFSETTO:-0600
TZNAME:MDT
DTSTART:20270314T090000
END:DAYLIGHT
BEGIN:STANDARD
TZOFFSETFROM:-0600
TZOFFSETTO:-0700
TZNAME:MST
DTSTART:20271107T080000
END:STANDARD
END:VTIMEZONE
BEGIN:VEVENT
DTSTART;TZID=America/Denver:20260131T190000
DTEND;TZID=America/Denver:20260131T210000
DTSTAMP:20260420T112304
CREATED:20260103T213434Z
LAST-MODIFIED:20260103T213434Z
UID:10001056-1769886000-1769893200@www.pushrootbrewing.com
SUMMARY:Movie! Hugo
DESCRIPTION:
URL:https://www.pushrootbrewing.com/event/movie-hugo/
LOCATION:Pushroot Brewing Co.\, 595 Main St.\, Lander\, WY\, 82520\, United States
CATEGORIES:movies
END:VEVENT
BEGIN:VEVENT
DTSTART;TZID=America/Denver:20260124T190000
DTEND;TZID=America/Denver:20260124T210000
DTSTAMP:20260420T112304
CREATED:20260103T213328Z
LAST-MODIFIED:20260103T213328Z
UID:10001055-1769281200-1769288400@www.pushrootbrewing.com
SUMMARY:Movie! Sin City
DESCRIPTION:
URL:https://www.pushrootbrewing.com/event/movie-sin-city/
LOCATION:Pushroot Brewing Co.\, 595 Main St.\, Lander\, WY\, 82520\, United States
CATEGORIES:movies
END:VEVENT
BEGIN:VEVENT
DTSTART;TZID=America/Denver:20260116T190000
DTEND;TZID=America/Denver:20260116T210000
DTSTAMP:20260420T112304
CREATED:20260103T212737Z
LAST-MODIFIED:20260103T212737Z
UID:10001054-1768590000-1768597200@www.pushrootbrewing.com
SUMMARY:Movie! Scott Pilgrim vs. the World
DESCRIPTION:
URL:https://www.pushrootbrewing.com/event/movie-scott-pilgrim-vs-the-world/
LOCATION:Pushroot Brewing Co.\, 595 Main St.\, Lander\, WY\, 82520\, United States
CATEGORIES:movies
END:VEVENT
BEGIN:VEVENT
DTSTART;TZID=America/Denver:20260110T190000
DTEND;TZID=America/Denver:20260110T210000
DTSTAMP:20260420T112304
CREATED:20260103T212543Z
LAST-MODIFIED:20260103T212543Z
UID:10001053-1768071600-1768078800@www.pushrootbrewing.com
SUMMARY:Movie! Ninja Turtles (1990)
DESCRIPTION:
URL:https://www.pushrootbrewing.com/event/movie-ninja-turtles-1990/
LOCATION:Pushroot Brewing Co.\, 595 Main St.\, Lander\, WY\, 82520\, United States
CATEGORIES:movies
END:VEVENT
BEGIN:VEVENT
DTSTART;TZID=America/Denver:20260103T190000
DTEND;TZID=America/Denver:20260103T210000
DTSTAMP:20260420T112304
CREATED:20260103T211817Z
LAST-MODIFIED:20260103T212411Z
UID:10000996-1767466800-1767474000@www.pushrootbrewing.com
SUMMARY:Movie! The Mask
DESCRIPTION:
URL:https://www.pushrootbrewing.com/event/movie/
LOCATION:Pushroot Brewing Co.\, 595 Main St.\, Lander\, WY\, 82520\, United States
CATEGORIES:movies
END:VEVENT
BEGIN:VEVENT
DTSTART;TZID=America/Denver:20251227T190000
DTEND;TZID=America/Denver:20251227T210000
DTSTAMP:20260420T112304
CREATED:20251214T012810Z
LAST-MODIFIED:20251214T012810Z
UID:10000799-1766862000-1766869200@www.pushrootbrewing.com
SUMMARY:Christmas Movie: Klaus
DESCRIPTION:Cozy up with us (inside) for some holiday cheer! We’ll share some popcorn\, and have movie theater-style candy available for purchase.
URL:https://www.pushrootbrewing.com/event/christmas-movie-klaus/
LOCATION:Pushroot Brewing Co.\, 595 Main St.\, Lander\, WY\, 82520\, United States
CATEGORIES:movies
ATTACH;FMTTYPE=image/jpeg:https://www.pushrootbrewing.com/wp-content/uploads/k.jpeg
END:VEVENT
BEGIN:VEVENT
DTSTART;TZID=America/Denver:20251220T190000
DTEND;TZID=America/Denver:20251220T210000
DTSTAMP:20260420T112304
CREATED:20251214T012559Z
LAST-MODIFIED:20251214T012559Z
UID:10000798-1766257200-1766264400@www.pushrootbrewing.com
SUMMARY:Christmas Movie: A Muppet Christmas Carol
DESCRIPTION:Cozy up with us (inside) for some holiday cheer! We’ll share some popcorn\, and have movie theater-style candy available for purchase.
URL:https://www.pushrootbrewing.com/event/christmas-movie-a-muppet-christmas-carol/
LOCATION:Pushroot Brewing Co.\, 595 Main St.\, Lander\, WY\, 82520\, United States
CATEGORIES:movies
ATTACH;FMTTYPE=image/jpeg:https://www.pushrootbrewing.com/wp-content/uploads/mcc.jpg
END:VEVENT
BEGIN:VEVENT
DTSTART;TZID=America/Denver:20251213T190000
DTEND;TZID=America/Denver:20251213T210000
DTSTAMP:20260420T112304
CREATED:20251214T012348Z
LAST-MODIFIED:20251214T012348Z
UID:10000797-1765652400-1765659600@www.pushrootbrewing.com
SUMMARY:Christmas Movie: National Lampoon's Christmas Vacation
DESCRIPTION:Cozy up with us (inside) for some holiday cheer! We’ll share some popcorn\, and have movie theater-style candy available for purchase.
URL:https://www.pushrootbrewing.com/event/christmas-movie-national-lampoons-christmas-vacation/
LOCATION:Pushroot Brewing Co.\, 595 Main St.\, Lander\, WY\, 82520\, United States
CATEGORIES:movies
ATTACH;FMTTYPE=image/jpeg:https://www.pushrootbrewing.com/wp-content/uploads/cv-scaled.jpg
END:VEVENT
BEGIN:VEVENT
DTSTART;TZID=America/Denver:20251003T200000
DTEND;TZID=America/Denver:20251003T220000
DTSTAMP:20260420T112304
CREATED:20250919T173900Z
LAST-MODIFIED:20250919T173900Z
UID:10000465-1759521600-1759528800@www.pushrootbrewing.com
SUMMARY:Movie Night: Shaun of the Dead
DESCRIPTION:It’s Movie Night on our newly landscaped backyard! Bring blankets and comfy camp chairs to snuggle up with your loved ones. Enjoy free popcorn and a campfire as we transition from Oktoberfest toward Halloween with the movie “Shaun of the Dead”. (It’s rated R\, so viewer discretion is advised.)
URL:https://www.pushrootbrewing.com/event/movie-night-shaun-of-the-dead/
LOCATION:Pushroot Brewing Co.\, 595 Main St.\, Lander\, WY\, 82520\, United States
CATEGORIES:movies,outside
ATTACH;FMTTYPE=image/jpeg:https://www.pushrootbrewing.com/wp-content/uploads/SDposter.jpg
END:VEVENT
BEGIN:VEVENT
DTSTART;TZID=America/Denver:20250926T200000
DTEND;TZID=America/Denver:20250926T220000
DTSTAMP:20260420T112304
CREATED:20250919T173728Z
LAST-MODIFIED:20250919T173728Z
UID:10000464-1758916800-1758924000@www.pushrootbrewing.com
SUMMARY:Movie Night: Strange Brew
DESCRIPTION:It’s Movie Night on our newly landscaped backyard! Bring blankets and comfy camp chairs to snuggle up with your loved ones. Enjoy free popcorn and a campfire as we watch the movie “Strange Brew”. (Rated PG)
URL:https://www.pushrootbrewing.com/event/movie-night-strange-brew/
LOCATION:Pushroot Brewing Co.\, 595 Main St.\, Lander\, WY\, 82520\, United States
CATEGORIES:movies,outside
ATTACH;FMTTYPE=image/jpeg:https://www.pushrootbrewing.com/wp-content/uploads/SBposter.jpg
END:VEVENT
BEGIN:VEVENT
DTSTART;TZID=America/Denver:20250919T200000
DTEND;TZID=America/Denver:20250919T220000
DTSTAMP:20260420T112304
CREATED:20250919T173519Z
LAST-MODIFIED:20250919T173519Z
UID:10000463-1758312000-1758319200@www.pushrootbrewing.com
SUMMARY:Movie Night: Beerfest
DESCRIPTION:It’s Movie Night on our newly landscaped backyard! Bring blankets and comfy camp chairs to snuggle up with your loved ones. Enjoy free popcorn and a campfire as we watch the movie “Beerfest”. (It’s rated R\, so viewer discretion is advised.)
URL:https://www.pushrootbrewing.com/event/movie-night-beerfest/
LOCATION:Pushroot Brewing Co.\, 595 Main St.\, Lander\, WY\, 82520\, United States
CATEGORIES:movies,outside
ATTACH;FMTTYPE=image/jpeg:https://www.pushrootbrewing.com/wp-content/uploads/BFposter.jpg
END:VEVENT
END:VCALENDAR