BEGIN:VCALENDAR
VERSION:2.0
PRODID:-//Pushroot Brewing Company - ECPv6.15.20//NONSGML v1.0//EN
CALSCALE:GREGORIAN
METHOD:PUBLISH
X-ORIGINAL-URL:https://www.pushrootbrewing.com
X-WR-CALDESC:Events for Pushroot Brewing Company
REFRESH-INTERVAL;VALUE=DURATION:PT1H
X-Robots-Tag:noindex
X-PUBLISHED-TTL:PT1H
BEGIN:VTIMEZONE
TZID:America/Denver
BEGIN:DAYLIGHT
TZOFFSETFROM:-0700
TZOFFSETTO:-0600
TZNAME:MDT
DTSTART:20240310T090000
END:DAYLIGHT
BEGIN:STANDARD
TZOFFSETFROM:-0600
TZOFFSETTO:-0700
TZNAME:MST
DTSTART:20241103T080000
END:STANDARD
BEGIN:DAYLIGHT
TZOFFSETFROM:-0700
TZOFFSETTO:-0600
TZNAME:MDT
DTSTART:20250309T090000
END:DAYLIGHT
BEGIN:STANDARD
TZOFFSETFROM:-0600
TZOFFSETTO:-0700
TZNAME:MST
DTSTART:20251102T080000
END:STANDARD
BEGIN:DAYLIGHT
TZOFFSETFROM:-0700
TZOFFSETTO:-0600
TZNAME:MDT
DTSTART:20260308T090000
END:DAYLIGHT
BEGIN:STANDARD
TZOFFSETFROM:-0600
TZOFFSETTO:-0700
TZNAME:MST
DTSTART:20261101T080000
END:STANDARD
END:VTIMEZONE
BEGIN:VEVENT
DTSTART;TZID=America/Denver:20251008T160000
DTEND;TZID=America/Denver:20251008T200000
DTSTAMP:20260420T064005
CREATED:20250909T013804Z
LAST-MODIFIED:20251215T224654Z
UID:10000958-1759939200-1759953600@www.pushrootbrewing.com
SUMMARY:Food Truck: Ten Tempura
DESCRIPTION:
URL:https://www.pushrootbrewing.com/event/food-truck-ten-tempura-24/2025-10-08/
LOCATION:Pushroot Brewing Co.\, 595 Main St.\, Lander\, WY\, 82520\, United States
CATEGORIES:food truck
ATTACH;FMTTYPE=image/jpeg:https://www.pushrootbrewing.com/wp-content/uploads/tt.jpg
END:VEVENT
BEGIN:VEVENT
DTSTART;TZID=America/Denver:20251008T170000
DTEND;TZID=America/Denver:20251008T190000
DTSTAMP:20260420T064005
CREATED:20250714T231033Z
LAST-MODIFIED:20250909T014454Z
UID:10000450-1759942800-1759950000@www.pushrootbrewing.com
SUMMARY:Pub Pup of the Month with Lander Pet Connection
DESCRIPTION:Donations accepted for the Lander Pet Connection (get a free beer with your donation) and meet our super adoptable pup who will be hanging out at the taproom!
URL:https://www.pushrootbrewing.com/event/pup-of-the-month-with-lander-pet-connection/2025-10-08/
LOCATION:Pushroot Brewing Co.\, 595 Main St.\, Lander\, WY\, 82520\, United States
CATEGORIES:events
ATTACH;FMTTYPE=image/jpeg:https://www.pushrootbrewing.com/wp-content/uploads/LPC.jpg
END:VEVENT
BEGIN:VEVENT
DTSTART;TZID=America/Denver:20251008T180000
DTEND;TZID=America/Denver:20251008T193000
DTSTAMP:20260420T064005
CREATED:20250909T012520Z
LAST-MODIFIED:20250909T012520Z
UID:10000367-1759946400-1759951800@www.pushrootbrewing.com
SUMMARY:Trivia
DESCRIPTION:
URL:https://www.pushrootbrewing.com/event/trivia-20/2025-10-08/
LOCATION:Pushroot Brewing Co.\, 595 Main St.\, Lander\, WY\, 82520\, United States
CATEGORIES:events
END:VEVENT
END:VCALENDAR