BEGIN:VCALENDAR
VERSION:2.0
PRODID:-//Pushroot Brewing Company - ECPv6.15.20//NONSGML v1.0//EN
CALSCALE:GREGORIAN
METHOD:PUBLISH
X-WR-CALNAME:Pushroot Brewing Company
X-ORIGINAL-URL:https://www.pushrootbrewing.com
X-WR-CALDESC:Events for Pushroot Brewing Company
REFRESH-INTERVAL;VALUE=DURATION:PT1H
X-Robots-Tag:noindex
X-PUBLISHED-TTL:PT1H
BEGIN:VTIMEZONE
TZID:America/Denver
BEGIN:DAYLIGHT
TZOFFSETFROM:-0700
TZOFFSETTO:-0600
TZNAME:MDT
DTSTART:20240310T090000
END:DAYLIGHT
BEGIN:STANDARD
TZOFFSETFROM:-0600
TZOFFSETTO:-0700
TZNAME:MST
DTSTART:20241103T080000
END:STANDARD
BEGIN:DAYLIGHT
TZOFFSETFROM:-0700
TZOFFSETTO:-0600
TZNAME:MDT
DTSTART:20250309T090000
END:DAYLIGHT
BEGIN:STANDARD
TZOFFSETFROM:-0600
TZOFFSETTO:-0700
TZNAME:MST
DTSTART:20251102T080000
END:STANDARD
BEGIN:DAYLIGHT
TZOFFSETFROM:-0700
TZOFFSETTO:-0600
TZNAME:MDT
DTSTART:20260308T090000
END:DAYLIGHT
BEGIN:STANDARD
TZOFFSETFROM:-0600
TZOFFSETTO:-0700
TZNAME:MST
DTSTART:20261101T080000
END:STANDARD
END:VTIMEZONE
BEGIN:VEVENT
DTSTART;VALUE=DATE:20250926
DTEND;VALUE=DATE:20250928
DTSTAMP:20260420T093350
CREATED:20250910T224637Z
LAST-MODIFIED:20250923T153014Z
UID:10000458-1758844800-1759017599@www.pushrootbrewing.com
SUMMARY:Oktoberfest!
DESCRIPTION:We’re excited to officially be bringing Oktoberfest to Lander this fall! Festivities start on Friday\, September 19\, with events happening every weekend through Saturday\, October 4. \nFriday\, September 26: \n\nContinue to enjoy our Oktoberfest Märzen Bock!\nFood truck: Wind River Pizza\n8 PM: Movie Night on our newly landscaped backyard! Bring blankets and comfy camp chairs to snuggle up with your loved ones. Enjoy free popcorn and a campfire as we watch the movie “Strange Brew”. (Rated PG)\n\nSaturday\, September 27: \n\nContinue to enjoy our Oktoberfest Märzen Bock!\nFood truck: Newa MoMo\n6 PM: Live music by Garrett LeBeau Band with Jay Stiles\n\nFriday\, October 3: \n\nContinue to enjoy our Oktoberfest Märzen Bock!\nSoft pretzels from Lander Bread Share\nFood truck: Wind River Pizza\n8 PM: Movie Night on our newly landscaped backyard! Bring blankets and comfy camp chairs to snuggle up with your loved ones. Enjoy free popcorn and a campfire as we watch the movie “Strange Brew”. (Rated PG)\n\nSaturday\, October 4: \n\nContinue to enjoy our Oktoberfest Märzen Bock!\nSoft pretzels from Lander Bread Share\nFood truck: Newa MoMo\n2 PM: Oktoberfest games\, including hammerschlagen and stein holding contest\n9 PM: German Techno DJ set by Quinn Cerovski
URL:https://www.pushrootbrewing.com/event/oktoberfest-2/
LOCATION:Pushroot Brewing Co.\, 595 Main St.\, Lander\, WY\, 82520\, United States
CATEGORIES:events,food truck,games,music
ATTACH;FMTTYPE=image/png:https://www.pushrootbrewing.com/wp-content/uploads/Screenshot-2025-09-10-at-4.42.46 PM.png
END:VEVENT
BEGIN:VEVENT
DTSTART;TZID=America/Denver:20250927T180000
DTEND;TZID=America/Denver:20250927T210000
DTSTAMP:20260420T093350
CREATED:20250919T175038Z
LAST-MODIFIED:20250923T152851Z
UID:10000468-1758996000-1759006800@www.pushrootbrewing.com
SUMMARY:Live Music: Garrett LeBeau Band with Jay Stiles
DESCRIPTION:
URL:https://www.pushrootbrewing.com/event/live-music-gl-and-the-soul-provider/
LOCATION:Pushroot Brewing Co.\, 595 Main St.\, Lander\, WY\, 82520\, United States
CATEGORIES:music,outside
ATTACH;FMTTYPE=image/jpeg:https://www.pushrootbrewing.com/wp-content/uploads/Pushroot-DIGITAL-Garrett-LeBeau-Fall-25-scaled.jpg
END:VEVENT
END:VCALENDAR