BEGIN:VCALENDAR
VERSION:2.0
PRODID:-//Pushroot Brewing Company - ECPv6.15.20//NONSGML v1.0//EN
CALSCALE:GREGORIAN
METHOD:PUBLISH
X-ORIGINAL-URL:https://www.pushrootbrewing.com
X-WR-CALDESC:Events for Pushroot Brewing Company
REFRESH-INTERVAL;VALUE=DURATION:PT1H
X-Robots-Tag:noindex
X-PUBLISHED-TTL:PT1H
BEGIN:VTIMEZONE
TZID:America/Denver
BEGIN:DAYLIGHT
TZOFFSETFROM:-0700
TZOFFSETTO:-0600
TZNAME:MDT
DTSTART:20240310T090000
END:DAYLIGHT
BEGIN:STANDARD
TZOFFSETFROM:-0600
TZOFFSETTO:-0700
TZNAME:MST
DTSTART:20241103T080000
END:STANDARD
BEGIN:DAYLIGHT
TZOFFSETFROM:-0700
TZOFFSETTO:-0600
TZNAME:MDT
DTSTART:20250309T090000
END:DAYLIGHT
BEGIN:STANDARD
TZOFFSETFROM:-0600
TZOFFSETTO:-0700
TZNAME:MST
DTSTART:20251102T080000
END:STANDARD
BEGIN:DAYLIGHT
TZOFFSETFROM:-0700
TZOFFSETTO:-0600
TZNAME:MDT
DTSTART:20260308T090000
END:DAYLIGHT
BEGIN:STANDARD
TZOFFSETFROM:-0600
TZOFFSETTO:-0700
TZNAME:MST
DTSTART:20261101T080000
END:STANDARD
END:VTIMEZONE
BEGIN:VEVENT
DTSTART;TZID=America/Denver:20250807T120000
DTEND;TZID=America/Denver:20250807T200000
DTSTAMP:20260419T191826
CREATED:20250801T164627Z
LAST-MODIFIED:20250801T164627Z
UID:10000240-1754568000-1754596800@www.pushrootbrewing.com
SUMMARY:Food Truck: Troy's Rollin' Chuck Wagon
DESCRIPTION:
URL:https://www.pushrootbrewing.com/event/food-truck-troys-rollin-chuck-wagon-3/
LOCATION:Pushroot Brewing Co.\, 595 Main St.\, Lander\, WY\, 82520\, United States
CATEGORIES:food truck
ATTACH;FMTTYPE=image/jpeg:https://www.pushrootbrewing.com/wp-content/uploads/trc.jpg
END:VEVENT
BEGIN:VEVENT
DTSTART;TZID=America/Denver:20250807T173000
DTEND;TZID=America/Denver:20250807T200000
DTSTAMP:20260419T191826
CREATED:20250801T165157Z
LAST-MODIFIED:20250801T165157Z
UID:10000244-1754587800-1754596800@www.pushrootbrewing.com
SUMMARY:Musicians Showcase
DESCRIPTION:Relax on our patio and enjoy a rotation of live music from a variety of Lander performers! Each set will be ~30 minutes.
URL:https://www.pushrootbrewing.com/event/musicians-showcase/
LOCATION:Pushroot Brewing Co.\, 595 Main St.\, Lander\, WY\, 82520\, United States
CATEGORIES:music
END:VEVENT
END:VCALENDAR