BEGIN:VCALENDAR
VERSION:2.0
PRODID:-//Pushroot Brewing Company - ECPv6.15.20//NONSGML v1.0//EN
CALSCALE:GREGORIAN
METHOD:PUBLISH
X-ORIGINAL-URL:https://www.pushrootbrewing.com
X-WR-CALDESC:Events for Pushroot Brewing Company
REFRESH-INTERVAL;VALUE=DURATION:PT1H
X-Robots-Tag:noindex
X-PUBLISHED-TTL:PT1H
BEGIN:VTIMEZONE
TZID:America/Denver
BEGIN:DAYLIGHT
TZOFFSETFROM:-0700
TZOFFSETTO:-0600
TZNAME:MDT
DTSTART:20240310T090000
END:DAYLIGHT
BEGIN:STANDARD
TZOFFSETFROM:-0600
TZOFFSETTO:-0700
TZNAME:MST
DTSTART:20241103T080000
END:STANDARD
BEGIN:DAYLIGHT
TZOFFSETFROM:-0700
TZOFFSETTO:-0600
TZNAME:MDT
DTSTART:20250309T090000
END:DAYLIGHT
BEGIN:STANDARD
TZOFFSETFROM:-0600
TZOFFSETTO:-0700
TZNAME:MST
DTSTART:20251102T080000
END:STANDARD
BEGIN:DAYLIGHT
TZOFFSETFROM:-0700
TZOFFSETTO:-0600
TZNAME:MDT
DTSTART:20260308T090000
END:DAYLIGHT
BEGIN:STANDARD
TZOFFSETFROM:-0600
TZOFFSETTO:-0700
TZNAME:MST
DTSTART:20261101T080000
END:STANDARD
END:VTIMEZONE
BEGIN:VEVENT
DTSTART;TZID=America/Denver:20250313T160000
DTEND;TZID=America/Denver:20250313T210000
DTSTAMP:20260422T101134
CREATED:20250304T190541Z
LAST-MODIFIED:20250304T190541Z
UID:10000094-1741881600-1741899600@www.pushrootbrewing.com
SUMMARY:Game Night
DESCRIPTION:Bring your cards\, bring a board\, bring a friend\, come solo.
URL:https://www.pushrootbrewing.com/event/game-night-11/
LOCATION:Pushroot Brewing Co.\, 595 Main St.\, Lander\, WY\, 82520\, United States
CATEGORIES:events
END:VEVENT
BEGIN:VEVENT
DTSTART;TZID=America/Denver:20250313T170000
DTEND;TZID=America/Denver:20250313T190000
DTSTAMP:20260422T101134
CREATED:20250221T020714Z
LAST-MODIFIED:20250308T205545Z
UID:10000086-1741885200-1741892400@www.pushrootbrewing.com
SUMMARY:Pub Night with The Nature Conservancy
DESCRIPTION:Come have a drink compliments of TNC in Wyoming and meet Tayler DeBrosse (Wyoming Red Canyon Ranch Stewardship Manager) and Brandon Reynolds (Wyoming Water Program Director). Bring your questions and learn about some of the important conservation work happening in Wyoming. This is a casual gathering for those interested in conservation.
URL:https://www.pushrootbrewing.com/event/pub-night-with-the-nature-conservancy/
LOCATION:Pushroot Brewing Co.\, 595 Main St.\, Lander\, WY\, 82520\, United States
CATEGORIES:events
ATTACH;FMTTYPE=image/jpeg:https://www.pushrootbrewing.com/wp-content/uploads/TNC.jpg
END:VEVENT
BEGIN:VEVENT
DTSTART;TZID=America/Denver:20250313T190000
DTEND;TZID=America/Denver:20250313T210000
DTSTAMP:20260422T101134
CREATED:20250304T190145Z
LAST-MODIFIED:20250304T190145Z
UID:10000090-1741892400-1741899600@www.pushrootbrewing.com
SUMMARY:Euchre League
DESCRIPTION:Come for fun\, serious\, competitive play. All are welcome.
URL:https://www.pushrootbrewing.com/event/euchre-league-7/
LOCATION:Pushroot Brewing Co.\, 595 Main St.\, Lander\, WY\, 82520\, United States
CATEGORIES:events
ATTACH;FMTTYPE=image/png:https://www.pushrootbrewing.com/wp-content/uploads/Screenshot-2025-01-28-at-1.53.12 PM.png
END:VEVENT
END:VCALENDAR