BEGIN:VCALENDAR
VERSION:2.0
PRODID:-//Pushroot Brewing Company - ECPv6.15.20//NONSGML v1.0//EN
CALSCALE:GREGORIAN
METHOD:PUBLISH
X-WR-CALNAME:Pushroot Brewing Company
X-ORIGINAL-URL:https://www.pushrootbrewing.com
X-WR-CALDESC:Events for Pushroot Brewing Company
REFRESH-INTERVAL;VALUE=DURATION:PT1H
X-Robots-Tag:noindex
X-PUBLISHED-TTL:PT1H
BEGIN:VTIMEZONE
TZID:America/Denver
BEGIN:DAYLIGHT
TZOFFSETFROM:-0700
TZOFFSETTO:-0600
TZNAME:MDT
DTSTART:20240310T090000
END:DAYLIGHT
BEGIN:STANDARD
TZOFFSETFROM:-0600
TZOFFSETTO:-0700
TZNAME:MST
DTSTART:20241103T080000
END:STANDARD
BEGIN:DAYLIGHT
TZOFFSETFROM:-0700
TZOFFSETTO:-0600
TZNAME:MDT
DTSTART:20250309T090000
END:DAYLIGHT
BEGIN:STANDARD
TZOFFSETFROM:-0600
TZOFFSETTO:-0700
TZNAME:MST
DTSTART:20251102T080000
END:STANDARD
BEGIN:DAYLIGHT
TZOFFSETFROM:-0700
TZOFFSETTO:-0600
TZNAME:MDT
DTSTART:20260308T090000
END:DAYLIGHT
BEGIN:STANDARD
TZOFFSETFROM:-0600
TZOFFSETTO:-0700
TZNAME:MST
DTSTART:20261101T080000
END:STANDARD
END:VTIMEZONE
BEGIN:VEVENT
DTSTART;TZID=America/Denver:20250227T160000
DTEND;TZID=America/Denver:20250227T203000
DTSTAMP:20260425T052140
CREATED:20250206T223618Z
LAST-MODIFIED:20250206T223618Z
UID:10000064-1740672000-1740688200@www.pushrootbrewing.com
SUMMARY:Game Night
DESCRIPTION:Bring your cards\, bring a board\, bring a friend\, come solo.
URL:https://www.pushrootbrewing.com/event/game-night-9/
LOCATION:Pushroot Brewing Co.\, 595 Main St.\, Lander\, WY\, 82520\, United States
CATEGORIES:events
END:VEVENT
BEGIN:VEVENT
DTSTART;TZID=America/Denver:20250227T190000
DTEND;TZID=America/Denver:20250227T210000
DTSTAMP:20260425T052140
CREATED:20250206T224030Z
LAST-MODIFIED:20250206T224030Z
UID:10000068-1740682800-1740690000@www.pushrootbrewing.com
SUMMARY:Euchre League
DESCRIPTION:Come for fun\, serious\, competitive play. All are welcome.
URL:https://www.pushrootbrewing.com/event/euchre-league-5/
LOCATION:Pushroot Brewing Co.\, 595 Main St.\, Lander\, WY\, 82520\, United States
CATEGORIES:events
ATTACH;FMTTYPE=image/png:https://www.pushrootbrewing.com/wp-content/uploads/Screenshot-2025-01-28-at-1.53.12 PM.png
END:VEVENT
END:VCALENDAR