BEGIN:VCALENDAR
VERSION:2.0
PRODID:-//Pushroot Brewing Company - ECPv6.15.20//NONSGML v1.0//EN
CALSCALE:GREGORIAN
METHOD:PUBLISH
X-ORIGINAL-URL:https://www.pushrootbrewing.com
X-WR-CALDESC:Events for Pushroot Brewing Company
REFRESH-INTERVAL;VALUE=DURATION:PT1H
X-Robots-Tag:noindex
X-PUBLISHED-TTL:PT1H
BEGIN:VTIMEZONE
TZID:America/Denver
BEGIN:DAYLIGHT
TZOFFSETFROM:-0700
TZOFFSETTO:-0600
TZNAME:MDT
DTSTART:20240310T090000
END:DAYLIGHT
BEGIN:STANDARD
TZOFFSETFROM:-0600
TZOFFSETTO:-0700
TZNAME:MST
DTSTART:20241103T080000
END:STANDARD
BEGIN:DAYLIGHT
TZOFFSETFROM:-0700
TZOFFSETTO:-0600
TZNAME:MDT
DTSTART:20250309T090000
END:DAYLIGHT
BEGIN:STANDARD
TZOFFSETFROM:-0600
TZOFFSETTO:-0700
TZNAME:MST
DTSTART:20251102T080000
END:STANDARD
BEGIN:DAYLIGHT
TZOFFSETFROM:-0700
TZOFFSETTO:-0600
TZNAME:MDT
DTSTART:20260308T090000
END:DAYLIGHT
BEGIN:STANDARD
TZOFFSETFROM:-0600
TZOFFSETTO:-0700
TZNAME:MST
DTSTART:20261101T080000
END:STANDARD
END:VTIMEZONE
BEGIN:VEVENT
DTSTART;TZID=America/Denver:20250226T163000
DTEND;TZID=America/Denver:20250226T200000
DTSTAMP:20260421T115930
CREATED:20250224T181842Z
LAST-MODIFIED:20250224T181842Z
UID:10000087-1740587400-1740600000@www.pushrootbrewing.com
SUMMARY:Food Truck: Ten Tempura
DESCRIPTION:
URL:https://www.pushrootbrewing.com/event/food-truck-ten-tempura-5/
LOCATION:Pushroot Brewing Co.\, 595 Main St.\, Lander\, WY\, 82520\, United States
CATEGORIES:food truck
ATTACH;FMTTYPE=image/jpeg:https://www.pushrootbrewing.com/wp-content/uploads/tt.jpg
END:VEVENT
BEGIN:VEVENT
DTSTART;TZID=America/Denver:20250226T180000
DTEND;TZID=America/Denver:20250226T190000
DTSTAMP:20260421T115930
CREATED:20250217T200118Z
LAST-MODIFIED:20250217T200118Z
UID:10000080-1740592800-1740596400@www.pushrootbrewing.com
SUMMARY:Lander Nordic Speaker Series: Gear and Waxing
DESCRIPTION:Nordic Skiing Essentials – Skills\, Gear & the Future \nWeek 2: Gear & Waxing – Getting Set Up for Success with Ski shop expert and wax technician Thomas Pede \nTopics Covered : \n\nChoosing the right skis\, boots & poles (sizing: height\, weight\, foot size)\nHow to maintain and store your equipment\nSimple ski waxing & care for different conditions\n\nQ&A: Ask the expert about technique challenges\nCasual gear talk with local experts! \nBonus: Attend all 4 nights and get a free pair of LNSA Ski ties!
URL:https://www.pushrootbrewing.com/event/lander-nordic-speaker-series-gear-and-waxing/
LOCATION:Pushroot Brewing Co.\, 595 Main St.\, Lander\, WY\, 82520\, United States
CATEGORIES:events
ATTACH;FMTTYPE=image/png:https://www.pushrootbrewing.com/wp-content/uploads/Screenshot-2025-02-17-at-1.00.04 PM.png
END:VEVENT
BEGIN:VEVENT
DTSTART;TZID=America/Denver:20250226T180000
DTEND;TZID=America/Denver:20250226T200000
DTSTAMP:20260421T115930
CREATED:20250213T223203Z
LAST-MODIFIED:20250213T223203Z
UID:10000078-1740592800-1740600000@www.pushrootbrewing.com
SUMMARY:New Record Night
DESCRIPTION:New Record Release. Join us and enjoy our growing record collection of blues\, jazz\, new and old\, country\, rock\, common and uncommon. Hosted by our brewer. Come drink great beer and try something new together. Follow our Instagram stories for record by record updates. @pushrootbrewing
URL:https://www.pushrootbrewing.com/event/new-record-night/
LOCATION:Pushroot Brewing Co.\, 595 Main St.\, Lander\, WY\, 82520\, United States
CATEGORIES:events
END:VEVENT
END:VCALENDAR