BEGIN:VCALENDAR
VERSION:2.0
PRODID:-//Pushroot Brewing Company - ECPv6.15.20//NONSGML v1.0//EN
CALSCALE:GREGORIAN
METHOD:PUBLISH
X-WR-CALNAME:Pushroot Brewing Company
X-ORIGINAL-URL:https://www.pushrootbrewing.com
X-WR-CALDESC:Events for Pushroot Brewing Company
REFRESH-INTERVAL;VALUE=DURATION:PT1H
X-Robots-Tag:noindex
X-PUBLISHED-TTL:PT1H
BEGIN:VTIMEZONE
TZID:America/Denver
BEGIN:DAYLIGHT
TZOFFSETFROM:-0700
TZOFFSETTO:-0600
TZNAME:MDT
DTSTART:20240310T090000
END:DAYLIGHT
BEGIN:STANDARD
TZOFFSETFROM:-0600
TZOFFSETTO:-0700
TZNAME:MST
DTSTART:20241103T080000
END:STANDARD
BEGIN:DAYLIGHT
TZOFFSETFROM:-0700
TZOFFSETTO:-0600
TZNAME:MDT
DTSTART:20250309T090000
END:DAYLIGHT
BEGIN:STANDARD
TZOFFSETFROM:-0600
TZOFFSETTO:-0700
TZNAME:MST
DTSTART:20251102T080000
END:STANDARD
BEGIN:DAYLIGHT
TZOFFSETFROM:-0700
TZOFFSETTO:-0600
TZNAME:MDT
DTSTART:20260308T090000
END:DAYLIGHT
BEGIN:STANDARD
TZOFFSETFROM:-0600
TZOFFSETTO:-0700
TZNAME:MST
DTSTART:20261101T080000
END:STANDARD
END:VTIMEZONE
BEGIN:VEVENT
DTSTART;TZID=America/Denver:20250122T160000
DTEND;TZID=America/Denver:20250122T203000
DTSTAMP:20260422T004724
CREATED:20250118T000606Z
LAST-MODIFIED:20250118T000606Z
UID:10000037-1737561600-1737577800@www.pushrootbrewing.com
SUMMARY:Food Truck: Ten Tempura
DESCRIPTION:
URL:https://www.pushrootbrewing.com/event/food-truck-ten-tempura-3/
LOCATION:Pushroot Brewing Co.\, 595 Main St.\, Lander\, WY\, 82520\, United States
CATEGORIES:food truck
ATTACH;FMTTYPE=image/jpeg:https://www.pushrootbrewing.com/wp-content/uploads/tt.jpg
END:VEVENT
BEGIN:VEVENT
DTSTART;TZID=America/Denver:20250122T170000
DTEND;TZID=America/Denver:20250122T200000
DTSTAMP:20260422T004724
CREATED:20250118T000327Z
LAST-MODIFIED:20250118T000327Z
UID:10000036-1737565200-1737576000@www.pushrootbrewing.com
SUMMARY:Wax and a Beer
DESCRIPTION:Finally\, winter is here! We’re partnering with @gannettpeaksports to get you ready for a fun (and safe) time skiing in the backcountry\, on the slopes\, or on the golf course. \nWednesday\, January 22nd\, @gannettpeaksports will be in our taproom waxing skis and snowboards. Even better – you get a free beer while you hang and watch the professionals do their magic. \n@landernordic will also be here to welcome any new Nordic skiers \, answer trail questions\, and give recommendations on where to go find your winter fun. Lander Nordic Ski Association merch available\, too. \nGet waxed\, Lander. Winter is here. All are welcome. Cheers!
URL:https://www.pushrootbrewing.com/event/wax-and-a-beer/
LOCATION:Pushroot Brewing Co.\, 595 Main St.\, Lander\, WY\, 82520\, United States
CATEGORIES:events
ATTACH;FMTTYPE=image/png:https://www.pushrootbrewing.com/wp-content/uploads/Screenshot-2025-01-17-at-5.01.10 PM.png
END:VEVENT
END:VCALENDAR