BEGIN:VCALENDAR
VERSION:2.0
PRODID:-//Pushroot Brewing Company - ECPv6.15.20//NONSGML v1.0//EN
CALSCALE:GREGORIAN
METHOD:PUBLISH
X-WR-CALNAME:Pushroot Brewing Company
X-ORIGINAL-URL:https://www.pushrootbrewing.com
X-WR-CALDESC:Events for Pushroot Brewing Company
REFRESH-INTERVAL;VALUE=DURATION:PT1H
X-Robots-Tag:noindex
X-PUBLISHED-TTL:PT1H
BEGIN:VTIMEZONE
TZID:America/Denver
BEGIN:DAYLIGHT
TZOFFSETFROM:-0700
TZOFFSETTO:-0600
TZNAME:MDT
DTSTART:20240310T090000
END:DAYLIGHT
BEGIN:STANDARD
TZOFFSETFROM:-0600
TZOFFSETTO:-0700
TZNAME:MST
DTSTART:20241103T080000
END:STANDARD
BEGIN:DAYLIGHT
TZOFFSETFROM:-0700
TZOFFSETTO:-0600
TZNAME:MDT
DTSTART:20250309T090000
END:DAYLIGHT
BEGIN:STANDARD
TZOFFSETFROM:-0600
TZOFFSETTO:-0700
TZNAME:MST
DTSTART:20251102T080000
END:STANDARD
BEGIN:DAYLIGHT
TZOFFSETFROM:-0700
TZOFFSETTO:-0600
TZNAME:MDT
DTSTART:20260308T090000
END:DAYLIGHT
BEGIN:STANDARD
TZOFFSETFROM:-0600
TZOFFSETTO:-0700
TZNAME:MST
DTSTART:20261101T080000
END:STANDARD
END:VTIMEZONE
BEGIN:VEVENT
DTSTART;TZID=America/Denver:20250107T160000
DTEND;TZID=America/Denver:20250107T203000
DTSTAMP:20260422T223057
CREATED:20241228T181409Z
LAST-MODIFIED:20241228T181409Z
UID:10000015-1736265600-1736281800@www.pushrootbrewing.com
SUMMARY:Food Truck: Double Dub's
DESCRIPTION:Serving chicken wings\, fries tots fresh vegetables\, blue cheese. Award winning sauces made fresh.
URL:https://www.pushrootbrewing.com/event/food-truck-double-dubs/
LOCATION:Pushroot Brewing Co.\, 595 Main St.\, Lander\, WY\, 82520\, United States
CATEGORIES:food truck
ATTACH;FMTTYPE=image/jpeg:https://www.pushrootbrewing.com/wp-content/uploads/dd.jpg
END:VEVENT
BEGIN:VEVENT
DTSTART;TZID=America/Denver:20250107T190000
DTEND;TZID=America/Denver:20250107T203000
DTSTAMP:20260422T223057
CREATED:20241228T181740Z
LAST-MODIFIED:20241228T181740Z
UID:10000016-1736276400-1736281800@www.pushrootbrewing.com
SUMMARY:Wildlife on Tap: Sporting Lead Free
DESCRIPTION:Presented by Bryan Bedrosian of Sporting Lead Free\, sponsored by Wyoming Wildlife Federation
URL:https://www.pushrootbrewing.com/event/wildlife-on-tap-sporting-lead-free/
LOCATION:Pushroot Brewing Co.\, 595 Main St.\, Lander\, WY\, 82520\, United States
CATEGORIES:events
ATTACH;FMTTYPE=image/png:https://www.pushrootbrewing.com/wp-content/uploads/wwf.png
END:VEVENT
END:VCALENDAR